BEGIN:VCALENDAR
VERSION:2.0
CALSCALE:GREGORIAN
PRODID:adamgibbons/ics
METHOD:PUBLISH
X-PUBLISHED-TTL:PT1H
BEGIN:VEVENT
UID:2329@devent.cz
SUMMARY:Bralni krožek - Politična šola borke Vide - Aleksandra Kollontaj
DTSTAMP:20260420T194855Z
DTSTART:20260422T150000Z
DTEND:20260422T170000Z
URL:https://devent.cz/event/bralni-krozek-politicna-sola-borke-vide-aleksan
	dra-kollontaj
LOCATION:A-Infoshop - AKC Metelkova Mesto
STATUS:CONFIRMED
CATEGORIES:A-Infoshop,Antiavtoritarna platforma,bralni krožek
END:VEVENT
END:VCALENDAR
